View In:
ArcGIS JavaScript
ArcGIS Online Map Viewer
ArcGIS Earth
Service Description: Imagery/Bishop_2012
Name: Imagery/Bishop_2012
Description:
Single Fused Map Cache: false
Extent:
XMin: 6719065.868927999
YMin: 2371165.115928
XMax: 6747928.078919999
YMax: 2389538.9217
Spatial Reference: 102644
(2228)
LatestVCSWkid(0)
Initial Extent:
XMin: 6719065.868927999
YMin: 2371165.115928
XMax: 6747928.078919999
YMax: 2389538.9217
Spatial Reference: 102644
(2228)
LatestVCSWkid(0)
Full Extent:
XMin: 6719065.868927999
YMin: 2371165.115928
XMax: 6747928.078919999
YMax: 2389538.9217
Spatial Reference: 102644
(2228)
LatestVCSWkid(0)
Pixel Size X: 0.3307079999999989
Pixel Size Y: 0.3307079999999999
Band Count: 5
Pixel Type: U8
RasterFunction Infos: {"rasterFunctionInfos": [{
"name": "None",
"description": "",
"help": ""
}]}
Mensuration Capabilities: Basic
Inspection Capabilities:
Has Histograms: true
Has Colormap: false
Has Multi Dimensions : false
Rendering Rule:
Min Scale: 0
Max Scale: 0
Copyright Text:
Service Data Type: esriImageServiceDataTypeGeneric
Min Values: 0, 0, 0, 0, 0
Max Values: 235, 210, 186, 241, 255
Mean Values: 94.57822410148, 83.724947145877, 73.471881606765, 107.00126849894, 237.61627906977
Standard Deviation Values: 64.373273177574, 57.163700164882, 50.036766102524, 71.837895963678, 63.934186804803
Object ID Field:
Fields:
None
Default Mosaic Method: Center
Allowed Mosaic Methods:
SortField:
SortValue: null
Mosaic Operator: First
Default Compression Quality: 75
Default Resampling Method: Bilinear
Max Record Count: null
Max Image Height: 4100
Max Image Width: 15000
Max Download Image Count: null
Max Mosaic Image Count: null
Allow Raster Function: true
Allow Copy: true
Allow Analysis: true
Allow Compute TiePoints: false
Supports Statistics: false
Supports Advanced Queries: false
Use StandardizedQueries: true
Raster Type Infos:
Name: Raster Dataset
Description: Supports all ArcGIS Raster Datasets
Help:
Has Raster Attribute Table: false
Edit Fields Info: null
Ownership Based AccessControl For Rasters: null
Child Resources:
Info
Histograms
Statistics
Key Properties
Legend
Raster Function Infos
Supported Operations:
Export Image
Identify
Measure
Compute Histograms
Compute Statistics Histograms
Get Samples
Compute Class Statistics
Query Boundary
Compute Pixel Location
Compute Angles
Validate
Project