{
 "currentVersion": 11.3,
 "serviceDescription": "Imagery/Bishop_2012",
 "name": "Imagery/Bishop_2012",
 "description": "",
 "extent": {
  "xmin": 6719065.868927999,
  "ymin": 2371165.115928,
  "xmax": 6747928.078919999,
  "ymax": 2389538.9217,
  "spatialReference": {
   "wkid": 102644,
   "latestWkid": 2228
  }
 },
 "initialExtent": {
  "xmin": 6719065.868927999,
  "ymin": 2371165.115928,
  "xmax": 6747928.078919999,
  "ymax": 2389538.9217,
  "spatialReference": {
   "wkid": 102644,
   "latestWkid": 2228
  }
 },
 "fullExtent": {
  "xmin": 6719065.868927999,
  "ymin": 2371165.115928,
  "xmax": 6747928.078919999,
  "ymax": 2389538.9217,
  "spatialReference": {
   "wkid": 102644,
   "latestWkid": 2228
  }
 },
 "sortableFields": "MinPS,MaxPS,LowPS,HighPS,CenterX,CenterY,ZOrder,Shape_Length,Shape_Area,SOrder,SLevelPS",
 "bandCount": 5,
 "pixelType": "U8",
 "minValues": [
  0,
  0,
  0,
  0,
  0
 ],
 "maxValues": [
  235,
  210,
  186,
  241,
  255
 ],
 "meanValues": [
  94.57822410148,
  83.724947145877,
  73.471881606765,
  107.00126849894,
  237.61627906977
 ],
 "stdvValues": [
  64.373273177574,
  57.163700164882,
  50.036766102524,
  71.837895963678,
  63.934186804803
 ],
 "hasMultidimensions": false,
 "pixelSizeX": 0.3307079999999989,
 "pixelSizeY": 0.3307079999999999,
 "meanPixelSize": 0.10079999999999983,
 "datasetFormat": "MrSID",
 "uncompressedSize": 24243844460,
 "blockWidth": 1024,
 "blockHeight": 128,
 "compressionType": "Wavelet (MG4)",
 "bandNames": [
  "Band_1",
  "Band_2",
  "Band_3",
  "Band_4",
  "Band_5"
 ],
 "allowCopy": true,
 "allowAnalysis": true,
 "itemAccess": false,
 "inspectionCapabilities": "",
 "noDataValue": 0,
 "noDataValues": [
  0,
  0,
  0,
  0,
  0
 ],
 "minPixelSize": 0,
 "maxPixelSize": 0,
 "copyrightText": "",
 "serviceDataType": "esriImageServiceDataTypeGeneric",
 "serviceSourceType": "esriImageServiceSourceTypeDataset",
 "objectIdField": "",
 "fields": [],
 "capabilities": "Image, Metadata, Mensuration",
 "defaultMosaicMethod": "Center",
 "allowedMosaicMethods": "",
 "sortField": "",
 "sortValue": null,
 "sortAscending": true,
 "mosaicOperator": "First",
 "defaultCompressionQuality": 75,
 "defaultResamplingMethod": "Bilinear",
 "maxImageHeight": 4100,
 "maxImageWidth": 15000,
 "allowRasterFunction": true,
 "rasterFunctionInfos": [
  {
   "name": "None",
   "description": "",
   "help": ""
  }
 ],
 "rasterTypeInfos": [
  {
   "name": "Raster Dataset",
   "description": "Supports all ArcGIS Raster Datasets",
   "help": ""
  }
 ],
 "mensurationCapabilities": "Basic",
 "hasHistograms": true,
 "hasColormap": false,
 "hasRasterAttributeTable": false,
 "minScale": 0,
 "maxScale": 0,
 "exportTilesAllowed": false,
 "supportsStatistics": false,
 "supportsAdvancedQueries": false,
 "editFieldsInfo": null,
 "ownershipBasedAccessControlForRasters": null,
 "allowComputeTiePoints": false,
 "useStandardizedQueries": true,
 "advancedQueryCapabilities": {
  "useStandardizedQueries": true,
  "supportsStatistics": false,
  "supportsOrderBy": false,
  "supportsDistinct": false,
  "supportsPagination": false
 },
 "spatialReference": {
  "wkid": 102644,
  "latestWkid": 2228
 }
}
