View In:
ArcGIS JavaScript
ArcGIS Online Map Viewer
ArcGIS Earth
Service Description: Imagery/Bishop_2002
Name: Imagery/Bishop_2002
Description:
Single Fused Map Cache: false
Extent:
XMin: 6728287.5
YMin: 2372988.75
XMax: 6745567.5
YMax: 2390448.75
Spatial Reference: 0
(0)
LatestVCSWkid(0)
Initial Extent:
XMin: 6728287.5
YMin: 2372988.75
XMax: 6745567.5
YMax: 2390448.75
Spatial Reference: 0
(0)
LatestVCSWkid(0)
Full Extent:
XMin: 6728287.5
YMin: 2372988.75
XMax: 6745567.5
YMax: 2390448.75
Spatial Reference: 0
(0)
LatestVCSWkid(0)
Pixel Size X: 1.25
Pixel Size Y: 1.25
Band Count: 3
Pixel Type: U8
RasterFunction Infos: {"rasterFunctionInfos": [{
"name": "None",
"description": "",
"help": ""
}]}
Mensuration Capabilities:
Inspection Capabilities:
Has Histograms: true
Has Colormap: false
Has Multi Dimensions : false
Rendering Rule:
Min Scale: 0
Max Scale: 0
Copyright Text:
Service Data Type: esriImageServiceDataTypeRGB
Min Values: 54, 78, 79
Max Values: 182, 198, 198
Mean Values: 124.00774410774, 138.92962962963, 128.60774410774
Standard Deviation Values: 18.33378164636, 17.315942058051, 16.195127731852
Object ID Field:
Fields:
None
Default Mosaic Method: Center
Allowed Mosaic Methods:
SortField:
SortValue: null
Mosaic Operator: First
Default Compression Quality: 75
Default Resampling Method: Bilinear
Max Record Count: null
Max Image Height: 4100
Max Image Width: 15000
Max Download Image Count: null
Max Mosaic Image Count: null
Allow Raster Function: true
Allow Copy: true
Allow Analysis: true
Allow Compute TiePoints: false
Supports Statistics: false
Supports Advanced Queries: false
Use StandardizedQueries: true
Raster Type Infos:
Name: Raster Dataset
Description: Supports all ArcGIS Raster Datasets
Help:
Has Raster Attribute Table: false
Edit Fields Info: null
Ownership Based AccessControl For Rasters: null
Child Resources:
Info
Histograms
Statistics
Key Properties
Legend
Raster Function Infos
Supported Operations:
Export Image
Identify
Measure
Compute Histograms
Compute Statistics Histograms
Get Samples
Compute Class Statistics
Query Boundary
Compute Pixel Location
Compute Angles
Validate
Project