{
 "currentVersion": 11.3,
 "serviceDescription": "Imagery/Bishop_2002",
 "name": "Imagery/Bishop_2002",
 "description": "",
 "extent": {
  "xmin": 6728287.5,
  "ymin": 2372988.75,
  "xmax": 6745567.5,
  "ymax": 2390448.75,
  "spatialReference": {
   "wkid": null
  }
 },
 "initialExtent": {
  "xmin": 6728287.5,
  "ymin": 2372988.75,
  "xmax": 6745567.5,
  "ymax": 2390448.75,
  "spatialReference": {
   "wkid": null
  }
 },
 "fullExtent": {
  "xmin": 6728287.5,
  "ymin": 2372988.75,
  "xmax": 6745567.5,
  "ymax": 2390448.75,
  "spatialReference": {
   "wkid": null
  }
 },
 "sortableFields": "",
 "bandCount": 3,
 "pixelType": "U8",
 "minValues": [
  54,
  78,
  79
 ],
 "maxValues": [
  182,
  198,
  198
 ],
 "meanValues": [
  124.00774410774,
  138.92962962963,
  128.60774410774
 ],
 "stdvValues": [
  18.33378164636,
  17.315942058051,
  16.195127731852
 ],
 "hasMultidimensions": false,
 "pixelSizeX": 1.25,
 "pixelSizeY": 1.25,
 "meanPixelSize": 1.25,
 "datasetFormat": "MrSID",
 "uncompressedSize": 579280896,
 "blockWidth": 1024,
 "blockHeight": 128,
 "compressionType": "Wavelet (MG2)",
 "bandNames": [
  "Band_1",
  "Band_2",
  "Band_3"
 ],
 "allowCopy": true,
 "allowAnalysis": true,
 "itemAccess": false,
 "inspectionCapabilities": "",
 "minPixelSize": 0,
 "maxPixelSize": 0,
 "copyrightText": "",
 "serviceDataType": "esriImageServiceDataTypeRGB",
 "serviceSourceType": "esriImageServiceSourceTypeDataset",
 "objectIdField": "",
 "fields": [],
 "capabilities": "Image, Metadata, Mensuration",
 "defaultMosaicMethod": "Center",
 "allowedMosaicMethods": "",
 "sortField": "",
 "sortValue": null,
 "sortAscending": true,
 "mosaicOperator": "First",
 "defaultCompressionQuality": 75,
 "defaultResamplingMethod": "Bilinear",
 "maxImageHeight": 4100,
 "maxImageWidth": 15000,
 "allowRasterFunction": true,
 "rasterFunctionInfos": [
  {
   "name": "None",
   "description": "",
   "help": ""
  }
 ],
 "rasterTypeInfos": [
  {
   "name": "Raster Dataset",
   "description": "Supports all ArcGIS Raster Datasets",
   "help": ""
  }
 ],
 "mensurationCapabilities": "",
 "hasHistograms": true,
 "hasColormap": false,
 "hasRasterAttributeTable": false,
 "minScale": 0,
 "maxScale": 0,
 "exportTilesAllowed": false,
 "supportsStatistics": false,
 "supportsAdvancedQueries": false,
 "editFieldsInfo": null,
 "ownershipBasedAccessControlForRasters": null,
 "allowComputeTiePoints": false,
 "useStandardizedQueries": true,
 "advancedQueryCapabilities": {
  "useStandardizedQueries": true,
  "supportsStatistics": false,
  "supportsOrderBy": false,
  "supportsDistinct": false,
  "supportsPagination": false
 },
 "spatialReference": {
  "wkid": null
 }
}
