View In:
ArcGIS JavaScript
ArcGIS Online Map Viewer
ArcGIS Earth
Service Description: Hosted/Hillshade
Name: Hosted/Hillshade
Description:
Single Fused Map Cache: true
Tile Info:
- Height: 256
- Width: 256
- DPI: 96
-
Levels of Detail: 9
-
Level ID: 0
[ Start Tile, End Tile ]
- Resolution: 2465.316313144443
- Scale: 9317712.311855685
-
Level ID: 1
[ Start Tile, End Tile ]
- Resolution: 1232.6581565722215
- Scale: 4658856.1559278425
-
Level ID: 2
[ Start Tile, End Tile ]
- Resolution: 616.3290782861108
- Scale: 2329428.0779639212
-
Level ID: 3
[ Start Tile, End Tile ]
- Resolution: 308.1645391430554
- Scale: 1164714.0389819606
-
Level ID: 4
[ Start Tile, End Tile ]
- Resolution: 154.0822695715277
- Scale: 582357.0194909803
-
Level ID: 5
[ Start Tile, End Tile ]
- Resolution: 77.04113478576384
- Scale: 291178.50974549016
-
Level ID: 6
[ Start Tile, End Tile ]
- Resolution: 38.52056739288192
- Scale: 145589.25487274508
-
Level ID: 7
[ Start Tile, End Tile ]
- Resolution: 19.26028369644096
- Scale: 72794.62743637254
-
Level ID: 8
[ Start Tile, End Tile ]
- Resolution: 9.63014184822048
- Scale: 36397.31371818627
- Format: LERC2D
- Compression Quality: 100000.0
- LERC Error: 0.1
- Origin: X: -1.32470834804E7
Y: 4581252.881100003
- Spatial Reference: 102100
(3857)
LatestVCSWkid(0)
Storage Info:
- Storage Format: esriMapCacheStorageModeCompactV2
- Packet Size: 16
Extent:
XMin: -1.32470834804E7
YMin: 4159722.312119696
XMax: -1.2795882444385326E7
YMax: 4581252.881100003
Spatial Reference: 102100
(3857)
LatestVCSWkid(0)
Initial Extent:
XMin: -1.32470834804E7
YMin: 4159722.312119696
XMax: -1.2795882444385326E7
YMax: 4581252.881100003
Spatial Reference: 102100
(3857)
LatestVCSWkid(0)
Full Extent:
XMin: -1.32470834804E7
YMin: 4159722.312119696
XMax: -1.2795882444385326E7
YMax: 4581252.881100003
Spatial Reference: 102100
(3857)
LatestVCSWkid(0)
Pixel Size X: 9.630141848220482
Pixel Size Y: 9.63014184822048
Band Count: 1
Pixel Type: U8
RasterFunction Infos: {"rasterFunctionInfos": [{
"name": "None",
"description": "",
"help": ""
}]}
Mensuration Capabilities: Basic
Inspection Capabilities:
Has Histograms: true
Has Colormap: false
Has Multi Dimensions : false
Rendering Rule:
Min Scale: 0
Max Scale: 0
Copyright Text:
Service Data Type: esriImageServiceDataTypeGeneric
Min Values: 0
Max Values: 254
Mean Values: 168.42157402947558
Standard Deviation Values: 42.25042541835288
Object ID Field:
Fields:
None
Default Mosaic Method: Center
Allowed Mosaic Methods:
SortField:
SortValue: null
Mosaic Operator: First
Default Compression Quality: 75
Default Resampling Method: Bilinear
Max Record Count: null
Max Image Height: 4100
Max Image Width: 15000
Max Download Image Count: null
Max Mosaic Image Count: null
Allow Raster Function: true
Allow Copy: true
Allow Analysis: true
Allow Compute TiePoints: false
Supports Statistics: false
Supports Advanced Queries: false
Use StandardizedQueries: true
Raster Type Infos:
Name: Raster Dataset
Description: Supports all ArcGIS Raster Datasets
Help:
Has Raster Attribute Table: false
Edit Fields Info: null
Ownership Based AccessControl For Rasters: null
Child Resources:
Info
Histograms
Statistics
Key Properties
Legend
Raster Function Infos
Supported Operations:
Export Image
Identify
Compute Histograms
Compute Statistics Histograms
Get Samples
Compute Class Statistics
Query Boundary
Compute Pixel Location
Compute Angles
Validate
Project