{
 "currentVersion": 11.3,
 "serviceDescription": "Hosted/Hillshade",
 "name": "Hosted/Hillshade",
 "description": "",
 "extent": {
  "xmin": -1.32470834804E7,
  "ymin": 4159722.312119696,
  "xmax": -1.2795882444385326E7,
  "ymax": 4581252.881100003,
  "spatialReference": {
   "wkid": 102100,
   "latestWkid": 3857
  }
 },
 "initialExtent": {
  "xmin": -1.32470834804E7,
  "ymin": 4159722.312119696,
  "xmax": -1.2795882444385326E7,
  "ymax": 4581252.881100003,
  "spatialReference": {
   "wkid": 102100,
   "latestWkid": 3857
  }
 },
 "fullExtent": {
  "xmin": -1.32470834804E7,
  "ymin": 4159722.312119696,
  "xmax": -1.2795882444385326E7,
  "ymax": 4581252.881100003,
  "spatialReference": {
   "wkid": 102100,
   "latestWkid": 3857
  }
 },
 "sortableFields": "",
 "bandCount": 1,
 "pixelType": "U8",
 "minValues": [
  0
 ],
 "maxValues": [
  254
 ],
 "meanValues": [
  168.42157402947558
 ],
 "stdvValues": [
  42.25042541835288
 ],
 "hasMultidimensions": false,
 "pixelSizeX": 9.630141848220482,
 "pixelSizeY": 9.63014184822048,
 "meanPixelSize": 9.630141848220482,
 "datasetFormat": "Cache/LERC2D",
 "uncompressedSize": 2050849516,
 "blockWidth": 256,
 "blockHeight": 256,
 "compressionType": "LERC2D",
 "bandNames": [
  "Band_1"
 ],
 "allowCopy": true,
 "allowAnalysis": true,
 "itemAccess": false,
 "inspectionCapabilities": "",
 "minPixelSize": 0,
 "maxPixelSize": 0,
 "copyrightText": "",
 "serviceDataType": "esriImageServiceDataTypeGeneric",
 "serviceSourceType": "esriImageServiceSourceTypeDataset",
 "objectIdField": "",
 "fields": [],
 "capabilities": "Image, Metadata",
 "defaultMosaicMethod": "Center",
 "allowedMosaicMethods": "",
 "sortField": "",
 "sortValue": null,
 "sortAscending": true,
 "mosaicOperator": "First",
 "defaultCompressionQuality": 75,
 "defaultResamplingMethod": "Bilinear",
 "maxImageHeight": 4100,
 "maxImageWidth": 15000,
 "singleFusedMapCache": true,
 "tileInfo": {
  "rows": 256,
  "cols": 256,
  "dpi": 96,
  "format": "LERC2D",
  "compressionQuality": 100000,
  "lercError": 0.1,
  "origin": {
   "x": -1.32470834804E7,
   "y": 4581252.881100003
  },
  "spatialReference": {
   "wkid": 102100,
   "latestWkid": 3857
  },
  "lods": [
   {
    "level": 0,
    "resolution": 2465.316313144443,
    "scale": 9317712.311855685
   },
   {
    "level": 1,
    "resolution": 1232.6581565722215,
    "scale": 4658856.1559278425
   },
   {
    "level": 2,
    "resolution": 616.3290782861108,
    "scale": 2329428.0779639212
   },
   {
    "level": 3,
    "resolution": 308.1645391430554,
    "scale": 1164714.0389819606
   },
   {
    "level": 4,
    "resolution": 154.0822695715277,
    "scale": 582357.0194909803
   },
   {
    "level": 5,
    "resolution": 77.04113478576384,
    "scale": 291178.50974549016
   },
   {
    "level": 6,
    "resolution": 38.52056739288192,
    "scale": 145589.25487274508
   },
   {
    "level": 7,
    "resolution": 19.26028369644096,
    "scale": 72794.62743637254
   },
   {
    "level": 8,
    "resolution": 9.63014184822048,
    "scale": 36397.31371818627
   }
  ]
 },
 "storageInfo": {
  "storageFormat": "esriMapCacheStorageModeCompactV2",
  "packetSize": 16
 },
 "cacheType": "Raster",
 "allowRasterFunction": true,
 "rasterFunctionInfos": [
  {
   "name": "None",
   "description": "",
   "help": ""
  }
 ],
 "rasterTypeInfos": [
  {
   "name": "Raster Dataset",
   "description": "Supports all ArcGIS Raster Datasets",
   "help": ""
  }
 ],
 "mensurationCapabilities": "Basic",
 "hasHistograms": true,
 "hasColormap": false,
 "hasRasterAttributeTable": false,
 "minScale": 0,
 "maxScale": 0,
 "exportTilesAllowed": false,
 "supportsStatistics": false,
 "supportsAdvancedQueries": false,
 "editFieldsInfo": null,
 "ownershipBasedAccessControlForRasters": null,
 "allowComputeTiePoints": false,
 "useStandardizedQueries": true,
 "advancedQueryCapabilities": {
  "useStandardizedQueries": true,
  "supportsStatistics": false,
  "supportsOrderBy": false,
  "supportsDistinct": false,
  "supportsPagination": false
 },
 "spatialReference": {
  "wkid": 102100,
  "latestWkid": 3857
 }
}
