View In:
ArcGIS JavaScript
ArcGIS Online Map Viewer
ArcGIS Earth
Service Description: Imagery/naip_4_4_1n_s_ca027_2005_1
Name: Imagery/naip_4_4_1n_s_ca027_2005_1
Description:
Single Fused Map Cache: false
Extent:
XMin: 338940.0
YMin: 3984160.0
XMax: 406400.0
YMax: 4152200.0
Spatial Reference: 26911
(26911)
LatestVCSWkid(0)
Initial Extent:
XMin: 338940.0
YMin: 3984160.0
XMax: 406400.0
YMax: 4152200.0
Spatial Reference: 26911
(26911)
LatestVCSWkid(0)
Full Extent:
XMin: 338940.0
YMin: 3984160.0
XMax: 406400.0
YMax: 4152200.0
Spatial Reference: 26911
(26911)
LatestVCSWkid(0)
Pixel Size X: 1.0
Pixel Size Y: 1.0
Band Count: 3
Pixel Type: U8
RasterFunction Infos: {"rasterFunctionInfos": [{
"name": "None",
"description": "",
"help": ""
}]}
Mensuration Capabilities:
Inspection Capabilities:
Has Histograms: true
Has Colormap: false
Has Multi Dimensions : false
Rendering Rule:
Min Scale: 0
Max Scale: 0
Copyright Text:
Service Data Type: esriImageServiceDataTypeRGB
Min Values: 0, 0, 0
Max Values: 220, 223, 177
Mean Values: 65.59437751004, 69.916027747353, 53.9142022636
Standard Deviation Values: 66.789136377195, 69.883088846642, 53.972890973465
Object ID Field:
Fields:
None
Default Mosaic Method: Center
Allowed Mosaic Methods:
SortField:
SortValue: null
Mosaic Operator: First
Default Compression Quality: 75
Default Resampling Method: Bilinear
Max Record Count: null
Max Image Height: 4100
Max Image Width: 15000
Max Download Image Count: null
Max Mosaic Image Count: null
Allow Raster Function: false
Allow Copy: true
Allow Analysis: true
Allow Compute TiePoints: false
Supports Statistics: false
Supports Advanced Queries: false
Use StandardizedQueries: true
Raster Type Infos:
Name: Raster Dataset
Description: Supports all ArcGIS Raster Datasets
Help:
Has Raster Attribute Table: false
Edit Fields Info: null
Ownership Based AccessControl For Rasters: null
Child Resources:
Info
Histograms
Statistics
Key Properties
Legend
Raster Function Infos
Supported Operations:
Export Image
Identify
Compute Histograms
Compute Statistics Histograms
Get Samples
Compute Class Statistics
Query Boundary
Compute Pixel Location
Compute Angles
Validate
Project