View In:
ArcGIS JavaScript
ArcGIS Online Map Viewer
ArcGIS Earth
Service Description: Imagery/Owens_River_1990
Name: Imagery/Owens_River_1990
Description:
Single Fused Map Cache: false
Extent:
XMin: 348999.6
YMin: 4036999.799999998
XMax: 421000.1999999997
YMax: 4163000.4
Spatial Reference: 26911
(26911)
LatestVCSWkid(0)
Initial Extent:
XMin: 348999.6
YMin: 4036999.799999998
XMax: 421000.1999999997
YMax: 4163000.4
Spatial Reference: 26911
(26911)
LatestVCSWkid(0)
Full Extent:
XMin: 348999.6
YMin: 4036999.799999998
XMax: 421000.1999999997
YMax: 4163000.4
Spatial Reference: 26911
(26911)
LatestVCSWkid(0)
Pixel Size X: 0.5999999999999979
Pixel Size Y: 0.6000000000000093
Band Count: 3
Pixel Type: U8
RasterFunction Infos: {"rasterFunctionInfos": [{
"name": "None",
"description": "",
"help": ""
}]}
Mensuration Capabilities: Basic
Inspection Capabilities:
Has Histograms: true
Has Colormap: false
Has Multi Dimensions : false
Rendering Rule:
Min Scale: 0
Max Scale: 0
Copyright Text:
Service Data Type: esriImageServiceDataTypeRGB
Min Values: 34, 56, 0
Max Values: 255, 255, 255
Mean Values: 237.38621030114, 233.29619878229, 222.86654599309
Standard Deviation Values: 39.077852878017, 47.042204856008, 68.808552362308
Object ID Field:
Fields:
None
Default Mosaic Method: Center
Allowed Mosaic Methods:
SortField:
SortValue: null
Mosaic Operator: First
Default Compression Quality: 75
Default Resampling Method: Bilinear
Max Record Count: null
Max Image Height: 4100
Max Image Width: 15000
Max Download Image Count: null
Max Mosaic Image Count: null
Allow Raster Function: true
Allow Copy: true
Allow Analysis: true
Allow Compute TiePoints: false
Supports Statistics: false
Supports Advanced Queries: false
Use StandardizedQueries: true
Raster Type Infos:
Name: Raster Dataset
Description: Supports all ArcGIS Raster Datasets
Help:
Has Raster Attribute Table: false
Edit Fields Info: null
Ownership Based AccessControl For Rasters: null
Child Resources:
Info
Histograms
Statistics
Key Properties
Legend
Raster Function Infos
Supported Operations:
Export Image
Identify
Measure
Compute Histograms
Compute Statistics Histograms
Get Samples
Compute Class Statistics
Query Boundary
Compute Pixel Location
Compute Angles
Validate
Project