View In:
ArcGIS JavaScript
ArcGIS Online Map Viewer
ArcGIS Earth
Service Description: Imagery/OwensRiver1981
Name: Imagery/OwensRiver1981
Description:
Single Fused Map Cache: false
Extent:
XMin: 348999.60000000003
YMin: 4036999.8000000077
XMax: 421000.1999999997
YMax: 4163000.4
Spatial Reference: 26911
(26911)
LatestVCSWkid(0)
Initial Extent:
XMin: 348999.60000000003
YMin: 4036999.8000000077
XMax: 421000.1999999997
YMax: 4163000.4
Spatial Reference: 26911
(26911)
LatestVCSWkid(0)
Full Extent:
XMin: 348999.60000000003
YMin: 4036999.8000000077
XMax: 421000.1999999997
YMax: 4163000.4
Spatial Reference: 26911
(26911)
LatestVCSWkid(0)
Pixel Size X: 0.5999999999999974
Pixel Size Y: 0.5999999999999628
Band Count: 4
Pixel Type: U8
RasterFunction Infos: {"rasterFunctionInfos": [{
"name": "None",
"description": "",
"help": ""
}]}
Mensuration Capabilities: Basic
Inspection Capabilities:
Has Histograms: true
Has Colormap: false
Has Multi Dimensions : false
Rendering Rule:
Min Scale: 0
Max Scale: 0
Copyright Text:
Service Data Type: esriImageServiceDataTypeGeneric
Min Values: 52, 40, 23, 0
Max Values: 255, 255, 255, 255
Mean Values: 237.18611156821, 233.64308046734, 226.58384071088, 45.098732927431
Standard Deviation Values: 39.110086918448, 46.412671338855, 61.022382820252, 95.622702813931
Object ID Field:
Fields:
None
Default Mosaic Method: Center
Allowed Mosaic Methods:
SortField:
SortValue: null
Mosaic Operator: First
Default Compression Quality: 75
Default Resampling Method: Bilinear
Max Record Count: null
Max Image Height: 4100
Max Image Width: 15000
Max Download Image Count: null
Max Mosaic Image Count: null
Allow Raster Function: true
Allow Copy: true
Allow Analysis: true
Allow Compute TiePoints: false
Supports Statistics: false
Supports Advanced Queries: false
Use StandardizedQueries: true
Raster Type Infos:
Name: Raster Dataset
Description: Supports all ArcGIS Raster Datasets
Help:
Has Raster Attribute Table: false
Edit Fields Info: null
Ownership Based AccessControl For Rasters: null
Child Resources:
Info
Histograms
Statistics
Key Properties
Legend
Raster Function Infos
Supported Operations:
Export Image
Identify
Measure
Compute Histograms
Compute Statistics Histograms
Get Samples
Compute Class Statistics
Query Boundary
Compute Pixel Location
Compute Angles
Validate
Project