View In:
ArcGIS JavaScript
ArcGIS Online Map Viewer
ArcGIS Earth
Service Description: Imagery/NAIP_2022
Name: Imagery/NAIP_2022
Description:
Single Fused Map Cache: false
Extent:
XMin: 339186.0
YMin: 3956021.9999673236
XMax: 624522.0
YMax: 4152084.0000000005
Spatial Reference: 26911
(26911)
LatestVCSWkid(0)
Initial Extent:
XMin: 339186.0
YMin: 3956021.9999673236
XMax: 624522.0
YMax: 4152084.0000000005
Spatial Reference: 26911
(26911)
LatestVCSWkid(0)
Full Extent:
XMin: 339186.0
YMin: 3956021.9999673236
XMax: 624522.0
YMax: 4152084.0000000005
Spatial Reference: 26911
(26911)
LatestVCSWkid(0)
Pixel Size X: 0.6
Pixel Size Y: 0.6000000000999995
Band Count: 3
Pixel Type: U8
RasterFunction Infos: {"rasterFunctionInfos": [{
"name": "None",
"description": "",
"help": ""
}]}
Mensuration Capabilities:
Inspection Capabilities:
Has Histograms: true
Has Colormap: false
Has Multi Dimensions : false
Rendering Rule:
Min Scale: 0
Max Scale: 0
Copyright Text:
Service Data Type: esriImageServiceDataTypeRGB
Min Values: 0, 0, 0
Max Values: 227, 225, 214
Mean Values: 77.79764957265, 73.789957264957, 63.95641025641
Standard Deviation Values: 74.680884312219, 70.831139525592, 62.308222193589
Object ID Field:
Fields:
None
Default Mosaic Method: Center
Allowed Mosaic Methods:
SortField:
SortValue: null
Mosaic Operator: First
Default Compression Quality: 75
Default Resampling Method: Bilinear
Max Record Count: null
Max Image Height: 4100
Max Image Width: 15000
Max Download Image Count: null
Max Mosaic Image Count: null
Allow Raster Function: false
Allow Copy: true
Allow Analysis: true
Allow Compute TiePoints: false
Supports Statistics: false
Supports Advanced Queries: false
Use StandardizedQueries: true
Raster Type Infos:
Name: Raster Dataset
Description: Supports all ArcGIS Raster Datasets
Help:
Has Raster Attribute Table: false
Edit Fields Info: null
Ownership Based AccessControl For Rasters: null
Child Resources:
Info
Histograms
Statistics
Key Properties
Legend
Raster Function Infos
Supported Operations:
Export Image
Identify
Compute Histograms
Compute Statistics Histograms
Get Samples
Compute Class Statistics
Query Boundary
Compute Pixel Location
Compute Angles
Validate
Project