View In:
ArcGIS JavaScript
ArcGIS Online Map Viewer
ArcGIS Earth
Service Description: Imagery/NAIP2018
Name: Imagery/NAIP2018
Description:
Single Fused Map Cache: false
Extent:
XMin: 339234.0
YMin: 3956069.9999673394
XMax: 624474.0
YMax: 4152036.0000000005
Spatial Reference: 26911
(26911)
LatestVCSWkid(0)
Initial Extent:
XMin: 339234.0
YMin: 3956069.9999673394
XMax: 624474.0
YMax: 4152036.0000000005
Spatial Reference: 26911
(26911)
LatestVCSWkid(0)
Full Extent:
XMin: 339234.0
YMin: 3956069.9999673394
XMax: 624474.0
YMax: 4152036.0000000005
Spatial Reference: 26911
(26911)
LatestVCSWkid(0)
Pixel Size X: 0.6
Pixel Size Y: 0.6000000001000001
Band Count: 3
Pixel Type: U8
RasterFunction Infos: {"rasterFunctionInfos": [{
"name": "None",
"description": "",
"help": ""
}]}
Mensuration Capabilities:
Inspection Capabilities:
Has Histograms: true
Has Colormap: false
Has Multi Dimensions : false
Rendering Rule:
Min Scale: 0
Max Scale: 0
Copyright Text:
Service Data Type: esriImageServiceDataTypeRGB
Min Values: 0, 0, 0
Max Values: 202, 200, 200
Mean Values: 63.57905982906, 65.574786324786, 61.48514957265
Standard Deviation Values: 61.25515632903, 63.7843435643, 59.944502410216
Object ID Field:
Fields:
None
Default Mosaic Method: Center
Allowed Mosaic Methods:
SortField:
SortValue: null
Mosaic Operator: First
Default Compression Quality: 75
Default Resampling Method: Bilinear
Max Record Count: null
Max Image Height: 4100
Max Image Width: 15000
Max Download Image Count: null
Max Mosaic Image Count: null
Allow Raster Function: false
Allow Copy: true
Allow Analysis: true
Allow Compute TiePoints: false
Supports Statistics: false
Supports Advanced Queries: false
Use StandardizedQueries: true
Raster Type Infos:
Name: Raster Dataset
Description: Supports all ArcGIS Raster Datasets
Help:
Has Raster Attribute Table: false
Edit Fields Info: null
Ownership Based AccessControl For Rasters: null
Child Resources:
Info
Histograms
Statistics
Key Properties
Legend
Raster Function Infos
Supported Operations:
Export Image
Identify
Compute Histograms
Compute Statistics Histograms
Get Samples
Compute Class Statistics
Query Boundary
Compute Pixel Location
Compute Angles
Validate
Project