View In:
ArcGIS JavaScript
ArcGIS Online Map Viewer
ArcGIS Earth
Service Description: Imagery/Bishop_1990
Name: Imagery/Bishop_1990
Description:
Single Fused Map Cache: false
Extent:
XMin: 369768.5999999999
YMin: 4132204.2
XMax: 380270.39999999985
YMax: 4139664.6
Spatial Reference: 26911
(26911)
LatestVCSWkid(0)
Initial Extent:
XMin: 369768.5999999999
YMin: 4132204.2
XMax: 380270.39999999985
YMax: 4139664.6
Spatial Reference: 26911
(26911)
LatestVCSWkid(0)
Full Extent:
XMin: 369768.5999999999
YMin: 4132204.2
XMax: 380270.39999999985
YMax: 4139664.6
Spatial Reference: 26911
(26911)
LatestVCSWkid(0)
Pixel Size X: 0.599999999999996
Pixel Size Y: 0.5999999999999925
Band Count: 3
Pixel Type: U8
RasterFunction Infos: {"rasterFunctionInfos": [{
"name": "None",
"description": "",
"help": ""
}]}
Mensuration Capabilities: Basic
Inspection Capabilities:
Has Histograms: true
Has Colormap: false
Has Multi Dimensions : false
Rendering Rule:
Min Scale: 0
Max Scale: 0
Copyright Text:
Service Data Type: esriImageServiceDataTypeRGB
Min Values: 0, 0, 0
Max Values: 254, 252, 204
Mean Values: 145.54832313449, 130.75867405014, 74.779303446416
Standard Deviation Values: 56.67352580262, 42.831249527695, 23.259499274763
Object ID Field:
Fields:
None
Default Mosaic Method: Center
Allowed Mosaic Methods:
SortField:
SortValue: null
Mosaic Operator: First
Default Compression Quality: 75
Default Resampling Method: Bilinear
Max Record Count: null
Max Image Height: 4100
Max Image Width: 15000
Max Download Image Count: null
Max Mosaic Image Count: null
Allow Raster Function: true
Allow Copy: true
Allow Analysis: true
Allow Compute TiePoints: false
Supports Statistics: false
Supports Advanced Queries: false
Use StandardizedQueries: true
Raster Type Infos:
Name: Raster Dataset
Description: Supports all ArcGIS Raster Datasets
Help:
Has Raster Attribute Table: false
Edit Fields Info: null
Ownership Based AccessControl For Rasters: null
Child Resources:
Info
Histograms
Statistics
Key Properties
Legend
Raster Function Infos
Supported Operations:
Export Image
Identify
Measure
Compute Histograms
Compute Statistics Histograms
Get Samples
Compute Class Statistics
Query Boundary
Compute Pixel Location
Compute Angles
Validate
Project