View In:
ArcGIS JavaScript
ArcGIS Online Map Viewer
ArcGIS Earth
Service Description: Imagery/Bishop_1981
Name: Imagery/Bishop_1981
Description:
Single Fused Map Cache: false
Extent:
XMin: 6734127.122705889
YMin: 2378970.2261910415
XMax: 6742285.413666962
YMax: 2387514.332342989
Spatial Reference: 0
(0)
LatestVCSWkid(0)
Initial Extent:
XMin: 6734127.122705889
YMin: 2378970.2261910415
XMax: 6742285.413666962
YMax: 2387514.332342989
Spatial Reference: 0
(0)
LatestVCSWkid(0)
Full Extent:
XMin: 6734127.122705889
YMin: 2378970.2261910415
XMax: 6742285.413666962
YMax: 2387514.332342989
Spatial Reference: 0
(0)
LatestVCSWkid(0)
Pixel Size X: 0.8535562838536075
Pixel Size Y: 0.8523649393403119
Band Count: 1
Pixel Type: U16
RasterFunction Infos: {"rasterFunctionInfos": [{
"name": "None",
"description": "",
"help": ""
}]}
Mensuration Capabilities: Basic
Inspection Capabilities:
Has Histograms: true
Has Colormap: false
Has Multi Dimensions : false
Rendering Rule:
Min Scale: 0
Max Scale: 0
Copyright Text:
Service Data Type: esriImageServiceDataTypeGeneric
Min Values: 0
Max Values: 65535
Mean Values: 26680.19572354
Standard Deviation Values: 14177.896660185
Object ID Field:
Fields:
None
Default Mosaic Method: Center
Allowed Mosaic Methods:
SortField:
SortValue: null
Mosaic Operator: First
Default Compression Quality: 75
Default Resampling Method: Bilinear
Max Record Count: null
Max Image Height: 4100
Max Image Width: 15000
Max Download Image Count: null
Max Mosaic Image Count: null
Allow Raster Function: true
Allow Copy: true
Allow Analysis: true
Allow Compute TiePoints: false
Supports Statistics: false
Supports Advanced Queries: false
Use StandardizedQueries: true
Raster Type Infos:
Name: Raster Dataset
Description: Supports all ArcGIS Raster Datasets
Help:
Has Raster Attribute Table: false
Edit Fields Info: null
Ownership Based AccessControl For Rasters: null
Child Resources:
Info
Histograms
Statistics
Key Properties
Legend
Raster Function Infos
Supported Operations:
Export Image
Identify
Measure
Compute Histograms
Compute Statistics Histograms
Get Samples
Compute Class Statistics
Query Boundary
Compute Pixel Location
Compute Angles
Validate
Project