View In:
ArcGIS JavaScript
ArcGIS Online Map Viewer
ArcGIS Earth
Service Description: Imagery/Bishop_1919
Name: Imagery/Bishop_1919
Description:
Single Fused Map Cache: false
Extent:
XMin: 367542.240142978
YMin: 4132598.6737894434
XMax: 382065.5649679763
YMax: 4139148.8481644425
Spatial Reference: 26911
(26911)
LatestVCSWkid(0)
Initial Extent:
XMin: 367542.240142978
YMin: 4132598.6737894434
XMax: 382065.5649679763
YMax: 4139148.8481644425
Spatial Reference: 26911
(26911)
LatestVCSWkid(0)
Full Extent:
XMin: 367542.240142978
YMin: 4132598.6737894434
XMax: 382065.5649679763
YMax: 4139148.8481644425
Spatial Reference: 26911
(26911)
LatestVCSWkid(0)
Pixel Size X: 0.41522499999995227
Pixel Size Y: 0.4152249999999374
Band Count: 1
Pixel Type: U8
RasterFunction Infos: {"rasterFunctionInfos": [{
"name": "None",
"description": "",
"help": ""
}]}
Mensuration Capabilities: Basic
Inspection Capabilities:
Has Histograms: true
Has Colormap: false
Has Multi Dimensions : false
Rendering Rule:
Min Scale: 0
Max Scale: 0
Copyright Text:
Service Data Type: esriImageServiceDataTypeGeneric
Min Values: 0
Max Values: 1
Mean Values: 0.92971894250326
Standard Deviation Values: 0.255620090385
Object ID Field:
Fields:
None
Default Mosaic Method: Center
Allowed Mosaic Methods:
SortField:
SortValue: null
Mosaic Operator: First
Default Compression Quality: 75
Default Resampling Method: Bilinear
Max Record Count: null
Max Image Height: 4100
Max Image Width: 15000
Max Download Image Count: null
Max Mosaic Image Count: null
Allow Raster Function: true
Allow Copy: true
Allow Analysis: true
Allow Compute TiePoints: false
Supports Statistics: false
Supports Advanced Queries: false
Use StandardizedQueries: true
Raster Type Infos:
Name: Raster Dataset
Description: Supports all ArcGIS Raster Datasets
Help:
Has Raster Attribute Table: true
Edit Fields Info: null
Ownership Based AccessControl For Rasters: null
Child Resources:
Info
Raster Attribute Table
Histograms
Statistics
Key Properties
Legend
Raster Function Infos
Supported Operations:
Export Image
Identify
Measure
Compute Histograms
Compute Statistics Histograms
Get Samples
Compute Class Statistics
Query Boundary
Compute Pixel Location
Compute Angles
Validate
Project