View In:
ArcGIS JavaScript
ArcGIS Online Map Viewer
ArcGIS Earth
Service Description: Imagery/1947BW
Name: Imagery/1947BW
Description:
Single Fused Map Cache: false
Extent:
XMin: 6721546.825053985
YMin: 2362282.086266532
XMax: 6747291.896717018
YMax: 2387208.913159434
Spatial Reference: 0
(0)
LatestVCSWkid(0)
Initial Extent:
XMin: 6721546.825053985
YMin: 2362282.086266532
XMax: 6747291.896717018
YMax: 2387208.913159434
Spatial Reference: 0
(0)
LatestVCSWkid(0)
Full Extent:
XMin: 6721546.825053985
YMin: 2362282.086266532
XMax: 6747291.896717018
YMax: 2387208.913159434
Spatial Reference: 0
(0)
LatestVCSWkid(0)
Pixel Size X: 2.4985512095335034
Pixel Size Y: 2.5006848809091236
Band Count: 1
Pixel Type: U16
RasterFunction Infos: {"rasterFunctionInfos": [{
"name": "None",
"description": "",
"help": ""
}]}
Mensuration Capabilities: Basic
Inspection Capabilities:
Has Histograms: false
Has Colormap: false
Has Multi Dimensions : false
Rendering Rule:
Min Scale: 0
Max Scale: 0
Copyright Text:
Service Data Type: esriImageServiceDataTypeGeneric
Min Values: N/A
Max Values: N/A
Mean Values: N/A
Standard Deviation Values: N/A
Object ID Field:
Fields:
None
Default Mosaic Method: Center
Allowed Mosaic Methods:
SortField:
SortValue: null
Mosaic Operator: First
Default Compression Quality: 75
Default Resampling Method: Bilinear
Max Record Count: null
Max Image Height: 4100
Max Image Width: 15000
Max Download Image Count: null
Max Mosaic Image Count: null
Allow Raster Function: true
Allow Copy: true
Allow Analysis: true
Allow Compute TiePoints: false
Supports Statistics: false
Supports Advanced Queries: false
Use StandardizedQueries: true
Raster Type Infos:
Name: Raster Dataset
Description: Supports all ArcGIS Raster Datasets
Help:
Has Raster Attribute Table: false
Edit Fields Info: null
Ownership Based AccessControl For Rasters: null
Child Resources:
Info
Statistics
Key Properties
Legend
Raster Function Infos
Supported Operations:
Export Image
Identify
Measure
Compute Histograms
Compute Statistics Histograms
Get Samples
Compute Class Statistics
Query Boundary
Compute Pixel Location
Compute Angles
Validate
Project