View In:
ArcGIS JavaScript
ArcGIS Online Map Viewer
ArcGIS Earth
Service Description: Hosted/Slope_
Name: Hosted/Slope_
Description:
Single Fused Map Cache: true
Tile Info:
- Height: 256
- Width: 256
- DPI: 96
-
Levels of Detail: 9
-
Level ID: 0
[ Start Tile, End Tile ]
- Resolution: 2465.3163131444403
- Scale: 9317712.311855674
-
Level ID: 1
[ Start Tile, End Tile ]
- Resolution: 1232.6581565722202
- Scale: 4658856.155927837
-
Level ID: 2
[ Start Tile, End Tile ]
- Resolution: 616.3290782861101
- Scale: 2329428.0779639184
-
Level ID: 3
[ Start Tile, End Tile ]
- Resolution: 308.16453914305504
- Scale: 1164714.0389819592
-
Level ID: 4
[ Start Tile, End Tile ]
- Resolution: 154.08226957152752
- Scale: 582357.0194909796
-
Level ID: 5
[ Start Tile, End Tile ]
- Resolution: 77.04113478576376
- Scale: 291178.5097454898
-
Level ID: 6
[ Start Tile, End Tile ]
- Resolution: 38.52056739288188
- Scale: 145589.2548727449
-
Level ID: 7
[ Start Tile, End Tile ]
- Resolution: 19.26028369644094
- Scale: 72794.62743637245
-
Level ID: 8
[ Start Tile, End Tile ]
- Resolution: 9.63014184822047
- Scale: 36397.313718186226
- Format: LERC2D
- Compression Quality: 0.0
- LERC Error: 0.0
- Origin: X: -1.32470834804E7
Y: 4581252.881099999
- Spatial Reference: 102100
(3857)
LatestVCSWkid(0)
Storage Info:
- Storage Format: esriMapCacheStorageModeCompactV2
- Packet Size: 16
Extent:
XMin: -1.32470834804E7
YMin: 4159722.3121196926
XMax: -1.2795882444385326E7
YMax: 4581252.881099999
Spatial Reference: 102100
(3857)
LatestVCSWkid(0)
Initial Extent:
XMin: -1.32470834804E7
YMin: 4159722.3121196926
XMax: -1.2795882444385326E7
YMax: 4581252.881099999
Spatial Reference: 102100
(3857)
LatestVCSWkid(0)
Full Extent:
XMin: -1.32470834804E7
YMin: 4159722.3121196926
XMax: -1.2795882444385326E7
YMax: 4581252.881099999
Spatial Reference: 102100
(3857)
LatestVCSWkid(0)
Pixel Size X: 9.630141848220482
Pixel Size Y: 9.63014184822047
Band Count: 1
Pixel Type: F32
RasterFunction Infos: {"rasterFunctionInfos": [{
"name": "None",
"description": "",
"help": ""
}]}
Mensuration Capabilities: Basic
Inspection Capabilities:
Has Histograms: true
Has Colormap: false
Has Multi Dimensions : false
Rendering Rule:
Min Scale: 0
Max Scale: 0
Copyright Text:
Service Data Type: esriImageServiceDataTypeGeneric
Min Values: 0
Max Values: 81.89510345458984
Mean Values: 13.970802896805733
Standard Deviation Values: 12.966215952123507
Object ID Field:
Fields:
None
Default Mosaic Method: Center
Allowed Mosaic Methods:
SortField:
SortValue: null
Mosaic Operator: First
Default Compression Quality: 75
Default Resampling Method: Bilinear
Max Record Count: null
Max Image Height: 4100
Max Image Width: 15000
Max Download Image Count: null
Max Mosaic Image Count: null
Allow Raster Function: true
Allow Copy: true
Allow Analysis: true
Allow Compute TiePoints: false
Supports Statistics: false
Supports Advanced Queries: false
Use StandardizedQueries: true
Raster Type Infos:
Name: Raster Dataset
Description: Supports all ArcGIS Raster Datasets
Help:
Has Raster Attribute Table: false
Edit Fields Info: null
Ownership Based AccessControl For Rasters: null
Child Resources:
Info
Histograms
Statistics
Key Properties
Legend
Raster Function Infos
Supported Operations:
Export Image
Identify
Compute Histograms
Compute Statistics Histograms
Get Samples
Compute Class Statistics
Query Boundary
Compute Pixel Location
Compute Angles
Validate
Project