{
 "currentVersion": 11.3,
 "serviceDescription": "Imagery/NAIP_2016",
 "name": "Imagery/NAIP_2016",
 "description": "",
 "extent": {
  "xmin": 6362992.777777778,
  "ymin": 1792748.1111111115,
  "xmax": 7563548.333333334,
  "ymax": 2886064.0833333335,
  "spatialReference": {
   "wkid": 102644,
   "latestWkid": 2228
  }
 },
 "initialExtent": {
  "xmin": 6362992.777777778,
  "ymin": 1792748.1111111115,
  "xmax": 7563548.333333334,
  "ymax": 2886064.0833333335,
  "spatialReference": {
   "wkid": 102644,
   "latestWkid": 2228
  }
 },
 "fullExtent": {
  "xmin": 6362992.777777778,
  "ymin": 1792748.1111111115,
  "xmax": 7563548.333333334,
  "ymax": 2886064.0833333335,
  "spatialReference": {
   "wkid": 102644,
   "latestWkid": 2228
  }
 },
 "sortableFields": "",
 "bandCount": 3,
 "pixelType": "U8",
 "minValues": [],
 "maxValues": [],
 "meanValues": [],
 "stdvValues": [],
 "hasMultidimensions": false,
 "pixelSizeX": 3.472222222222223,
 "pixelSizeY": 3.4722222222222214,
 "meanPixelSize": 1.0583354500042335,
 "datasetFormat": "AFR",
 "uncompressedSize": 326613540000,
 "blockWidth": 256,
 "blockHeight": 256,
 "compressionType": "None",
 "bandNames": [
  "Band_1",
  "Band_2",
  "Band_3"
 ],
 "allowCopy": true,
 "allowAnalysis": true,
 "itemAccess": false,
 "inspectionCapabilities": "",
 "minPixelSize": 0,
 "maxPixelSize": 0,
 "copyrightText": "",
 "serviceDataType": "esriImageServiceDataTypeRGB",
 "serviceSourceType": "esriImageServiceSourceTypeDataset",
 "objectIdField": "",
 "fields": [],
 "capabilities": "Image",
 "defaultMosaicMethod": "Center",
 "allowedMosaicMethods": "",
 "sortField": "",
 "sortValue": null,
 "sortAscending": true,
 "mosaicOperator": "First",
 "defaultCompressionQuality": 75,
 "defaultResamplingMethod": "Bilinear",
 "maxImageHeight": 4100,
 "maxImageWidth": 15000,
 "allowRasterFunction": false,
 "rasterFunctionInfos": [
  {
   "name": "None",
   "description": "",
   "help": ""
  }
 ],
 "rasterTypeInfos": [
  {
   "name": "Raster Dataset",
   "description": "Supports all ArcGIS Raster Datasets",
   "help": ""
  }
 ],
 "mensurationCapabilities": "",
 "hasHistograms": false,
 "hasColormap": false,
 "hasRasterAttributeTable": false,
 "minScale": 0,
 "maxScale": 0,
 "exportTilesAllowed": false,
 "supportsStatistics": false,
 "supportsAdvancedQueries": false,
 "editFieldsInfo": null,
 "ownershipBasedAccessControlForRasters": null,
 "allowComputeTiePoints": false,
 "useStandardizedQueries": true,
 "advancedQueryCapabilities": {
  "useStandardizedQueries": true,
  "supportsStatistics": false,
  "supportsOrderBy": false,
  "supportsDistinct": false,
  "supportsPagination": false
 },
 "spatialReference": {
  "wkid": 102644,
  "latestWkid": 2228
 }
}
