{
 "currentVersion": 11.3,
 "serviceDescription": "Hosted/Aspect",
 "name": "Hosted/Aspect",
 "description": "",
 "extent": {
  "xmin": -1.32470834804E7,
  "ymin": 4159722.3121196963,
  "xmax": -1.2795882444385326E7,
  "ymax": 4581252.881100003,
  "spatialReference": {
   "wkid": 102100,
   "latestWkid": 3857
  }
 },
 "initialExtent": {
  "xmin": -1.32470834804E7,
  "ymin": 4159722.3121196963,
  "xmax": -1.2795882444385326E7,
  "ymax": 4581252.881100003,
  "spatialReference": {
   "wkid": 102100,
   "latestWkid": 3857
  }
 },
 "fullExtent": {
  "xmin": -1.32470834804E7,
  "ymin": 4159722.3121196963,
  "xmax": -1.2795882444385326E7,
  "ymax": 4581252.881100003,
  "spatialReference": {
   "wkid": 102100,
   "latestWkid": 3857
  }
 },
 "sortableFields": "",
 "bandCount": 1,
 "pixelType": "F32",
 "minValues": [
  -1
 ],
 "maxValues": [
  359.860595703125
 ],
 "meanValues": [
  156.913619063037
 ],
 "stdvValues": [
  101.48047160575169
 ],
 "hasMultidimensions": false,
 "pixelSizeX": 9.630141848220482,
 "pixelSizeY": 9.63014184822047,
 "meanPixelSize": 9.630141848220475,
 "datasetFormat": "Cache/LERC2D",
 "uncompressedSize": 8203398064,
 "blockWidth": 256,
 "blockHeight": 256,
 "compressionType": "LERC2D",
 "bandNames": [
  "Band_1"
 ],
 "allowCopy": true,
 "allowAnalysis": true,
 "itemAccess": false,
 "inspectionCapabilities": "",
 "minPixelSize": 0,
 "maxPixelSize": 0,
 "copyrightText": "",
 "serviceDataType": "esriImageServiceDataTypeGeneric",
 "serviceSourceType": "esriImageServiceSourceTypeDataset",
 "objectIdField": "",
 "fields": [],
 "capabilities": "Image, Metadata",
 "defaultMosaicMethod": "Center",
 "allowedMosaicMethods": "",
 "sortField": "",
 "sortValue": null,
 "sortAscending": true,
 "mosaicOperator": "First",
 "defaultCompressionQuality": 75,
 "defaultResamplingMethod": "Bilinear",
 "maxImageHeight": 4100,
 "maxImageWidth": 15000,
 "singleFusedMapCache": true,
 "tileInfo": {
  "rows": 256,
  "cols": 256,
  "dpi": 96,
  "format": "LERC2D",
  "compressionQuality": 0,
  "lercError": 0,
  "origin": {
   "x": -1.32470834804E7,
   "y": 4581252.881100003
  },
  "spatialReference": {
   "wkid": 102100,
   "latestWkid": 3857
  },
  "lods": [
   {
    "level": 0,
    "resolution": 2465.3163131444403,
    "scale": 9317712.311855674
   },
   {
    "level": 1,
    "resolution": 1232.6581565722202,
    "scale": 4658856.155927837
   },
   {
    "level": 2,
    "resolution": 616.3290782861101,
    "scale": 2329428.0779639184
   },
   {
    "level": 3,
    "resolution": 308.16453914305504,
    "scale": 1164714.0389819592
   },
   {
    "level": 4,
    "resolution": 154.08226957152752,
    "scale": 582357.0194909796
   },
   {
    "level": 5,
    "resolution": 77.04113478576376,
    "scale": 291178.5097454898
   },
   {
    "level": 6,
    "resolution": 38.52056739288188,
    "scale": 145589.2548727449
   },
   {
    "level": 7,
    "resolution": 19.26028369644094,
    "scale": 72794.62743637245
   },
   {
    "level": 8,
    "resolution": 9.63014184822047,
    "scale": 36397.313718186226
   }
  ]
 },
 "storageInfo": {
  "storageFormat": "esriMapCacheStorageModeCompactV2",
  "packetSize": 16
 },
 "cacheType": "Raster",
 "allowRasterFunction": true,
 "rasterFunctionInfos": [
  {
   "name": "None",
   "description": "",
   "help": ""
  }
 ],
 "rasterTypeInfos": [
  {
   "name": "Raster Dataset",
   "description": "Supports all ArcGIS Raster Datasets",
   "help": ""
  }
 ],
 "mensurationCapabilities": "Basic",
 "hasHistograms": true,
 "hasColormap": false,
 "hasRasterAttributeTable": false,
 "minScale": 0,
 "maxScale": 0,
 "exportTilesAllowed": false,
 "supportsStatistics": false,
 "supportsAdvancedQueries": false,
 "editFieldsInfo": null,
 "ownershipBasedAccessControlForRasters": null,
 "allowComputeTiePoints": false,
 "useStandardizedQueries": true,
 "advancedQueryCapabilities": {
  "useStandardizedQueries": true,
  "supportsStatistics": false,
  "supportsOrderBy": false,
  "supportsDistinct": false,
  "supportsPagination": false
 },
 "spatialReference": {
  "wkid": 102100,
  "latestWkid": 3857
 }
}
